BEGIN:VCALENDAR
VERSION:2.0
PRODID:-//Cars and Coffee Raleigh - ECPv6.15.20//NONSGML v1.0//EN
CALSCALE:GREGORIAN
METHOD:PUBLISH
X-WR-CALNAME:Cars and Coffee Raleigh
X-ORIGINAL-URL:https://carsandcoffeeraleigh.org
X-WR-CALDESC:Events for Cars and Coffee Raleigh
REFRESH-INTERVAL;VALUE=DURATION:PT1H
X-Robots-Tag:noindex
X-PUBLISHED-TTL:PT1H
BEGIN:VTIMEZONE
TZID:America/New_York
BEGIN:DAYLIGHT
TZOFFSETFROM:-0500
TZOFFSETTO:-0400
TZNAME:EDT
DTSTART:20250309T070000
END:DAYLIGHT
BEGIN:STANDARD
TZOFFSETFROM:-0400
TZOFFSETTO:-0500
TZNAME:EST
DTSTART:20251102T060000
END:STANDARD
BEGIN:DAYLIGHT
TZOFFSETFROM:-0500
TZOFFSETTO:-0400
TZNAME:EDT
DTSTART:20260308T070000
END:DAYLIGHT
BEGIN:STANDARD
TZOFFSETFROM:-0400
TZOFFSETTO:-0500
TZNAME:EST
DTSTART:20261101T060000
END:STANDARD
BEGIN:DAYLIGHT
TZOFFSETFROM:-0500
TZOFFSETTO:-0400
TZNAME:EDT
DTSTART:20270314T070000
END:DAYLIGHT
BEGIN:STANDARD
TZOFFSETFROM:-0400
TZOFFSETTO:-0500
TZNAME:EST
DTSTART:20271107T060000
END:STANDARD
END:VTIMEZONE
BEGIN:VEVENT
DTSTART;TZID=America/New_York:20260502T090000
DTEND;TZID=America/New_York:20260502T120000
DTSTAMP:20260422T114318
CREATED:20260421T204630Z
LAST-MODIFIED:20260421T204923Z
UID:505-1777712400-1777723200@carsandcoffeeraleigh.org
SUMMARY:Classic and Exotic Car Show-Raleigh
DESCRIPTION:Join us for a Classic and Exotic car showcase event on May 2nd\, 2026 11am-2pm @3711 Exchange Glenwood Place\, Raleigh.\n\nWe are doing this special event with our partners the Luxury Apartment Complex “The Residences Glenwood Place”. Event is free for attendees. \n\n\nThis event will have rare classic and exotic cars with VIP parking for the classics and exotics. Along with great vendors\, food and good times. As always\, our event is family and pet friendly. Eat some food\, get some drinks\, see some nice cars and enjoy the hobby. Good times!
URL:https://carsandcoffeeraleigh.org/event/classic-and-exotic-car-show-raleigh/
LOCATION:Glenwood Place\, 3711 Exchange Place\, Raleigh\, NC\, 27612\, United States
CATEGORIES:Car show,Glenwood Place,Raleigh,Special events
ORGANIZER;CN="Cars and Coffee Raleigh":MAILTO:events@carsandcoffeeraleigh.org
END:VEVENT
BEGIN:VEVENT
DTSTART;TZID=America/New_York:20260426T080000
DTEND;TZID=America/New_York:20260426T110000
DTSTAMP:20260422T114318
CREATED:20260410T173601Z
LAST-MODIFIED:20260410T173638Z
UID:495-1777190400-1777201200@carsandcoffeeraleigh.org
SUMMARY:German Car Show-Sunday April 26\, 2026 * 8am-11am
DESCRIPTION:Location: 6270 Glenwood Ave.  Raleigh. \n \nThis month we will highlight the German CAR Familia! \nAudi’s\, BENZ’s\, BMW’s \, Porsche’s\, Volkswagens. New & Old. Classics & others. Sports cars\, sedans\, buses\, vans. Gonna be a cool event!  As we always say “All cars are welcome”! & Family Friendly. \nBring the family\, kiddos & fur babies for a great time. Come hungry\, support our vendors and see some cool rides. Always a good time!
URL:https://carsandcoffeeraleigh.org/event/german-car-show-sunday-april-26-2026-8am-11am/
LOCATION:NC
END:VEVENT
END:VCALENDAR